BEGIN:VCALENDAR
METHOD:PUBLISH
PRODID:-//github.com/rianjs/ical.net//NONSGML ical.net 4.0//EN
VERSION:2.0
BEGIN:VEVENT
DTSTAMP:20260420T113617Z
DTSTART:20260426T000000
LOCATION:Cincinnati Art Museum
SEQUENCE:0
SUMMARY:Blooming Brunch: Extravaganza with the Queens (21+) - AIB 2026
UID:00000000-0000-0000-0000-000000000000
X-ALT-DESC;FMTTYPE=text/html:<p><strong>Registration required.<br>VIP tabl
 e of 10: $900</strong><br><strong>General Admission: $85</strong><br><str
 ong>Member Admission: $75</strong></p>\n<p>A high energy drag brunch that
  promises to be a kaleidoscopic experience with exquisite florals and com
 plemented by a delectable meal.<span>&nbsp\;Your ticket grants you bottom
 less coffee and tea\, along with two drink tickets\, breakfast pastries\,
  fresh fruit\, juice\, and a hearty buffet to fuel the festivities. Choos
 e to<span>&nbsp\;</span>purchase<span> individual seated tickets\, includ
 ing the buffet and two drinks\, or reserve a VIP bundle which includes a 
 table for 10 including two drink tickets per person\, reserved seating\, 
 the buffet\, and two bottles of champagne. Remember to bring cash to tip 
 the performers.</span></span></p>\n<h3><span><span>Blooming Brunch Ticket
 s</span></span></h3>\n<p><strong>VIP Table: $900</strong></p>\n<ul>\n<li>
 <span>Reserved table in the front</span></li>\n<li>Two bottles of Prosecc
 o&nbsp\;</li>\n</ul>\n<p><strong>Individual tickets: $85 ($75 for members
 )</strong></p>\n<ul>\n<li>General Admission</li>\n<li>2 drink tickets</li
 >\n</ul>\n<p><span><span><em>Refunds not available.</em></span></span></p
 >\n<hr>\n<p><em>If you need&nbsp\;accessibility accommodations\, please c
 ontact us in advance at&nbsp\;</em><em><a href="mailto:access@cincyart.or
 g">access@cincyart.org</a>&nbsp\;or fill out&nbsp\;<a href="https://forms
 .office.com/Pages/ResponsePage.aspx?id=Gm-hEwG4gEOJzKydDKuIkMouQ0Sbq_FHq0
 MNY45l4U1UMTYxM0ZJRjFENlBYQzlSWDlWT0NEVDNBNS4u" title="https://forms.offi
 ce.com/Pages/ResponsePage.aspx?id=Gm-hEwG4gEOJzKydDKuIkMouQ0Sbq_FHq0MNY45
 l4U1UMTYxM0ZJRjFENlBYQzlSWDlWT0NEVDNBNS4u">the accessibility request form
 .</a></em></p>
END:VEVENT
END:VCALENDAR
