BEGIN:VCALENDAR
METHOD:PUBLISH
PRODID:-//github.com/rianjs/ical.net//NONSGML ical.net 4.0//EN
VERSION:2.0
BEGIN:VEVENT
DTSTAMP:20260420T113619Z
DTSTART:20260426T000000
LOCATION:Cincinnati Art Museum
SEQUENCE:0
SUMMARY:The Art of Blooming: Cultivating a Career in Fashion Lecture with 
 ASHA AMA - AIB 2026
UID:00000000-0000-0000-0000-000000000000
X-ALT-DESC;FMTTYPE=text/html:<p><strong>Registration required.<br><span st
 yle="mso-ascii-theme-font: minor-latin\; mso-hansi-theme-font: minor-lati
 n\; mso-bidi-theme-font: minor-bidi\;">$30 for the general public.<br>$15
  for students.<br>Free for members.</span></strong><span style="mso-ascii
 -theme-font: minor-latin\; mso-hansi-theme-font: minor-latin\; mso-bidi-t
 heme-font: minor-bidi\;"></span></p>\n<p>For Art in Bloom\, fashion<span>
 &nbsp\;</span>designer ASHA AMA<span>&nbsp\;offers an intimate reflection
  on her journey from an isolated\, misunderstood student to an internatio
 nally recognized creative. Inspired by the proverb\, “They threw dirt on 
 us\, not knowing we were seeds\,” she explores how moments that felt like
  setbacks\, rejection\, or pressure became the very soil that cultivated 
 her voice and vision. A graduate of the University of Cincinnati’s DAAP p
 rogram\, she refined her craft through cooperative placements with ready-
 to-wear and couture houses before appearing on Project Runway: Under the 
 Gunn and Project Runway All-Stars. She has since&nbsp\;designed for<span>
 &nbsp\;global stages\,&nbsp\;</span>museums\, and celebrity clients while
 <span>&nbsp\;</span>remaining<span> rooted in authenticity and cultural s
 torytelling.</span></span></p>\n<p><span><span>This lecture centers on au
 thorship—on learning to belong to oneself\,&nbsp\;establishing&nbsp\;new 
 standards for how artists are treated\, and creating safer\, more intenti
 onal spaces for emerging creatives. It is a meditation on resilience\, bo
 undaries\, and the discipline required not only to survive an industry\, 
 but to bloom within it.</span></span></p>\n<p><span><span><em>Refunds not
  available.</em></span></span></p>\n<hr>\n<p><span><span><em>If you need 
 accessibility accommodations\, please contact us in advance at&nbsp\;</em
 ><em><a href="mailto:access@cincyart.org">access@cincyart.org</a>&nbsp\;o
 r fill out&nbsp\;<a href="https://forms.office.com/Pages/ResponsePage.asp
 x?id=Gm-hEwG4gEOJzKydDKuIkMouQ0Sbq_FHq0MNY45l4U1UMTYxM0ZJRjFENlBYQzlSWDlW
 T0NEVDNBNS4u" title="https://forms.office.com/Pages/ResponsePage.aspx?id=
 Gm-hEwG4gEOJzKydDKuIkMouQ0Sbq_FHq0MNY45l4U1UMTYxM0ZJRjFENlBYQzlSWDlWT0NEV
 DNBNS4u">the accessibility request form.</a></em></span></span></p>
END:VEVENT
END:VCALENDAR
