BEGIN:VCALENDAR
METHOD:PUBLISH
PRODID:-//github.com/rianjs/ical.net//NONSGML ical.net 4.0//EN
VERSION:2.0
BEGIN:VEVENT
DTSTAMP:20260420T113620Z
DTSTART:20260426T000000
LOCATION:Cincinnati Art Museum
SEQUENCE:0
SUMMARY:Sold Out – Spring Blooms Tile Hand-Painting Workshop with Rookwood
  Pottery - AIB 2026
UID:00000000-0000-0000-0000-000000000000
X-ALT-DESC;FMTTYPE=text/html:<p><strong>*The Spring Blooms Tile Hand-Paint
 ing Workshop with Rookwood Pottery on Sunday\, April 26\, 2026 has sold o
 ut.*</strong></p>\n<p><strong>Registration required.<br>$70</strong></p>\
 n<p>Experience the joy of hand-painting your own Rookwood tile in this ar
 tist-led workshop inspired by the color and renewal of spring. Choose fro
 m three exclusive floral designs—iris\, rose\, or peony—created only for 
 this workshop to make your piece uniquely yours. All materials will be pr
 ovided. Plus\, enjoy a complimentary Behind the Scenes Tour at Rookwood\,
  schedule online for available times and dates.</p>\n<p><em>Refunds not a
 vailable.</em></p>\n<hr>\n<p><em>If you need&nbsp\;accessibility accommod
 ations\, please contact us in advance at&nbsp\;</em><em><a href="mailto:a
 ccess@cincyart.org">access@cincyart.org</a>&nbsp\;or fill out&nbsp\;<a hr
 ef="https://forms.office.com/Pages/ResponsePage.aspx?id=Gm-hEwG4gEOJzKydD
 KuIkMouQ0Sbq_FHq0MNY45l4U1UMTYxM0ZJRjFENlBYQzlSWDlWT0NEVDNBNS4u" title="h
 ttps://forms.office.com/Pages/ResponsePage.aspx?id=Gm-hEwG4gEOJzKydDKuIkM
 ouQ0Sbq_FHq0MNY45l4U1UMTYxM0ZJRjFENlBYQzlSWDlWT0NEVDNBNS4u">the accessibi
 lity request form.</a></em></p>
END:VEVENT
END:VCALENDAR
