BEGIN:VCALENDAR
METHOD:PUBLISH
PRODID:-//github.com/rianjs/ical.net//NONSGML ical.net 4.0//EN
VERSION:2.0
BEGIN:VEVENT
DTSTAMP:20260420T113620Z
DTSTART:20260426T000000
LOCATION:Cincinnati Art Museum
SEQUENCE:0
SUMMARY:Art in Bloom Closing Ceremony & Awards - AIB 2026
UID:00000000-0000-0000-0000-000000000000
X-ALT-DESC;FMTTYPE=text/html:<p><strong>Free\, drop-in.</strong></p>\n<p>A
 ttend Art in Bloom’s closing event when we will announce the jury’s and p
 ublic’s favorite floral artists and arrangements.</p>\n<p>Awards include 
 Patron's Choice\, Jurors' Choice\, Curators' Choice\, Perfect Pairing (th
 e most like the artwork)\, and One of A Kind (the most unique).</p>\n<hr>
 \n<p><em>If you need accessibility accommodations\, please contact us in 
 advance at&nbsp\;</em><a rel="noreferrer noopener" href="mailto:access@ci
 ncyart.org" target="_blank" title="mailto:access@cincyart.org" class="fui
 -Link ___1rxvrpe f2hkw1w f3rmtva f1ewtqcl fyind8e f1k6fduh f1w7gpdv fk6fo
 uc fjoy568 figsok6 f1hu3pq6 f11qmguv f19f4twv f1tyq0we f1g0x7ka fhxju0i f
 1qch9an f1cnd47f fqv5qza f1vmzxwi f1o700av f13mvf36 f1cmlufx f9n3di6 f1id
 s18y f1tx3yz7 f1deo86v f1eh06m1 f1iescvh fhgqx19 f1olyrje f1p93eir f1nev4
 1a f1h8hb77 f1lqvz6u f10aw75t fsle3fq f17ae5zn" aria-label="Link access@c
 incyart.org"><em>access@cincyart.org</em></a>&nbsp\;<em>or fill out&nbsp\
 ;</em><a rel="noreferrer noopener" href="https://forms.office.com/Pages/R
 esponsePage.aspx?id=Gm-hEwG4gEOJzKydDKuIkMouQ0Sbq_FHq0MNY45l4U1UMTYxM0ZJR
 jFENlBYQzlSWDlWT0NEVDNBNS4u" target="_blank" title="https://forms.office.
 com/pages/responsepage.aspx?id=gm-hewg4geojzkyddkuikmouq0sbq_fhq0mny45l4u
 1umtyxm0zjrjfenlbyqzlswdlwt0nevdnbns4u" class="fui-Link ___1rxvrpe f2hkw1
 w f3rmtva f1ewtqcl fyind8e f1k6fduh f1w7gpdv fk6fouc fjoy568 figsok6 f1hu
 3pq6 f11qmguv f19f4twv f1tyq0we f1g0x7ka fhxju0i f1qch9an f1cnd47f fqv5qz
 a f1vmzxwi f1o700av f13mvf36 f1cmlufx f9n3di6 f1ids18y f1tx3yz7 f1deo86v 
 f1eh06m1 f1iescvh fhgqx19 f1olyrje f1p93eir f1nev41a f1h8hb77 f1lqvz6u f1
 0aw75t fsle3fq f17ae5zn" aria-label="Link the accessibility request form.
 &nbsp\;"><em>the accessibility request form.</em></a></p>
END:VEVENT
END:VCALENDAR
