BEGIN:VCALENDAR
METHOD:PUBLISH
PRODID:-//github.com/rianjs/ical.net//NONSGML ical.net 4.0//EN
VERSION:2.0
BEGIN:VEVENT
DTSTAMP:20260423T232832Z
DTSTART:20260430T000000
LOCATION:Cincinnati Art Museum
SEQUENCE:0
SUMMARY:Public Tours
UID:00000000-0000-0000-0000-000000000000
X-ALT-DESC;FMTTYPE=text/html:<div>\n<p><strong>Free. Registration is not r
 equired.<br>Tours meet in the front lobby.</strong></p>\n<p>Interested in
  exploring our monthly theme? Join us on Tuesdays\, Thursdays\, and Satur
 days for these focused tours. The theme for April is Flowers in Art</p>\n
 </div>\n<div>\n<p>Thursday evening tours explore our temporary exhibition
 s.</p>\n<p>Wednesday\, Friday\, and Sunday tours highlight the collection
 \, offering a unique view every time.</p>\n</div>\n<div>\n<div>\n<p><stro
 ng>Homeschool and school groups as well as groups of 10 or more people ar
 e not permitted on public tours. Please&nbsp\;<a href="mailto:tours@cincy
 art.org" title="mailto:tours@cincyart.org">reach out to the Tour Coordina
 tor</a>&nbsp\;and&nbsp\;<a href="https://forms.office.com/r/krDGu0UPft" t
 itle="https://forms.office.com/r/krDGu0UPft">submit a tour request form</
 a>&nbsp\;to ensure the best possible tour for your group.</strong></p>\n<
 /div>\n<div><hr></div>\n<div>\n<p><em>If you need</em><em>&nbsp\;</em><em
 >accessibility accommodations\, please contact us in advance at&nbsp\;</e
 m><em><a href="mailto:access@cincyart.org" title="mailto:access@cincyart.
 org">access@cincyart.org</a></em><em>&nbsp\;</em><em>or fill out&nbsp\;</
 em><em><a href="https://forms.office.com/Pages/ResponsePage.aspx?id=Gm-hE
 wG4gEOJzKydDKuIkMouQ0Sbq_FHq0MNY45l4U1UMTYxM0ZJRjFENlBYQzlSWDlWT0NEVDNBNS
 4u" title="https://forms.office.com/Pages/ResponsePage.aspx?id=Gm-hEwG4gE
 OJzKydDKuIkMouQ0Sbq_FHq0MNY45l4U1UMTYxM0ZJRjFENlBYQzlSWDlWT0NEVDNBNS4u">t
 he&nbsp\;accessibility request form.</a></em></p>\n</div>\n</div>
END:VEVENT
END:VCALENDAR
