BEGIN:VCALENDAR
METHOD:PUBLISH
PRODID:-//github.com/rianjs/ical.net//NONSGML ical.net 4.0//EN
VERSION:2.0
BEGIN:VEVENT
DTSTAMP:20260423T222738Z
DTSTART:20201212T110000
LOCATION:Cincinnati Art Museum
SEQUENCE:0
SUMMARY:Art Chat Live with ASL Interpretation: Winter Landscape
UID:00000000-0000-0000-0000-000000000000
X-ALT-DESC;FMTTYPE=text/html:<p><strong>This is a virtual event. </strong>
 </p>\n<p style="margin: 0in\; background: white\; vertical-align: baselin
 e\;" class="paragraph"><span class="normaltextrun"><span style="color: bl
 ack\;">Don’t miss out on great art just because you are at home! In-galle
 ry programs will restart in Spring 2021 depending on COVID-19 conditions.
  </span></span></p>\n<p style="margin: 0in\; background: white\; vertical
 -align: baseline\;" class="paragraph"><span class="normaltextrun"> </span
 ></p>\n<p style="margin: 0in\; background: white\; vertical-align: baseli
 ne\;" class="paragraph"><span class="normaltextrun"><span style="color: b
 lack\;">Until then\, join us on select Saturdays from 11 a.m–12 p.m for a
 n online Art Chat. During each Chat\, we will compare two different artwo
 rks from the museum’s collection. As a group we will talk about how they 
 relate to each other. The conversation is sure to lead to new discoveries
  and perspectives. An American Sign Language Interpreter will be facilita
 ting each session\, and live captions are available through the Microsoft
  Teams app.</span></span><span class="eop"><span style="color: black\;"> 
 </span></span></p>\n<p style="margin: 0in\; background: white\; vertical-
 align: baseline\;" class="paragraph"> </p>\n<p style="margin: 0in\; backg
 round: white\; vertical-align: baseline\;" class="paragraph"><span class=
 "eop"><span style="color: black\;">This program's theme: <strong>Winter L
 andscape</strong></span></span></p>\n<p style="margin: 0in\; background: 
 white\; vertical-align: baseline\;" class="paragraph"> </p>\n<p style="ma
 rgin: 0in\; background: white\; vertical-align: baseline\;" class="paragr
 aph"><strong><a rel="noopener" href="https://teams.microsoft.com/l/meetup
 -join/19%3ameeting_YTZmYTExZjItMjg1My00NTE4LWI0ZDgtZjkxNzMwZDc3MzQ1%40thr
 ead.v2/0?context=%7b%22Tid%22%3a%2213a16f1a-b801-4380-89cc-ac9d0cab8890%2
 2%2c%22Oid%22%3a%2244432eca-ab9b-47f1-ab43-0d638e65e14d%22%7d" target="_b
 lank" data-anchor="?context=%7b%22Tid%22%3a%2213a16f1a-b801-4380-89cc-ac9
 d0cab8890%22%2c%22Oid%22%3a%2244432eca-ab9b-47f1-ab43-0d638e65e14d%22%7d"
 ><span class="eop"><span>Click here to join the live event on December 12
 \, 2020</span></span></a></strong></p>\n<p style="margin: 0in\; backgroun
 d: white\; vertical-align: baseline\;" class="paragraph"> </p>\n<p style=
 "margin: 0in\; background: white\; vertical-align: baseline\;" class="par
 agraph"> </p>\n<p style="margin: 0in\; background: white\; vertical-align
 : baseline\;" class="paragraph"><span class="eop">Image: <em>Garfield Par
 k\,</em> 1917\, Edward Timothy Hurley (American\, b.1869\, d.1950)\, Bequ
 est of Alice Belle Bettman\, 1990.1350</span></p>
END:VEVENT
END:VCALENDAR
