BEGIN:VCALENDAR
METHOD:PUBLISH
PRODID:-//github.com/rianjs/ical.net//NONSGML ical.net 4.0//EN
VERSION:2.0
BEGIN:VEVENT
DTSTAMP:20260423T002605Z
DTSTART:20240217T113000
LOCATION:Cincinnati Art Museum
SEQUENCE:0
SUMMARY:*SOLD OUT* Family Studio: Art Making for Families with Children Ag
 es 6–12
UID:00000000-0000-0000-0000-000000000000
X-ALT-DESC;FMTTYPE=text/html:<p><strong>Reservations required.<br />Regist
 ration is per participating child. All children must be accompanied by an
  adult.<br /></strong><strong>Members: $6<br /></strong><strong>General p
 ublic: $12<br />* This event has sold out. *<br /></strong></p>\n<p>Learn
  fun art-making techniques related to an artwork or exhibition and create
  a unique work of art in this studio class designed for families with chi
 ldren ages 6–12. Each session provides a new theme and guided activities 
 for families to create together or make solo artworks. Before the class\,
  e<span class="NormalTextRun SCXW153422494 BCX0">xplore the exhibition <a
  href="/art/exhibitions/exhibition-archive/2023/clearly-indigenous/" titl
 e="Clearly Indigenous"><em>Clearly Indigenous: Native Visions Reimagined 
 in Glass</em></a></span>\, together as a family\, and gain inspiration fo
 r the studio project.</p>\n<p>The theme for this class is Shapes and Form
 s.</p>\n<hr />\n<p><em><span class="ui-provider a b c d e f g h i j k l m
  n o p q r s t u v w x y z ab ac ae af ag ah ai aj ak">If you need access
 ibility accommodations\, please contact us in advance at <a rel="noreferr
 er noopener" href="mailto:access@cincyart.org" target="_blank" title="mai
 lto:access@cincyart.org" class="fui-Link ___10kug0w f3rmtva f1ewtqcl fyin
 d8e f1k6fduh f1w7gpdv fk6fouc fjoy568 figsok6 f1hu3pq6 f11qmguv f19f4twv 
 f1tyq0we f1g0x7ka fhxju0i f1qch9an f1cnd47f fqv5qza f1vmzxwi f1o700av f13
 mvf36 f1cmlufx f9n3di6 f1ids18y f1tx3yz7 f1deo86v f1eh06m1 f1iescvh fhgqx
 19 f1olyrje f1p93eir f1nev41a f1h8hb77 f1lqvz6u f10aw75t fsle3fq f17ae5zn
 " aria-label="Link access@cincyart.org."><u>access@cincyart.org.</u></a><
 /span></em></p>
END:VEVENT
END:VCALENDAR
