BEGIN:VCALENDAR
METHOD:PUBLISH
PRODID:-//github.com/rianjs/ical.net//NONSGML ical.net 4.0//EN
VERSION:2.0
BEGIN:VEVENT
DTSTAMP:20260421T072406Z
DTSTART:20240106T110000
LOCATION:Cincinnati Art Museum
SEQUENCE:0
SUMMARY:SOLD OUT Family Storytime and Gallery Walk: Sharing is Caring
UID:00000000-0000-0000-0000-000000000000
X-ALT-DESC;FMTTYPE=text/html:<p><strong>*This date is sold out. Join us fo
 r our next Family Storytime and Gallery Walk on Sat. March 2\, 2024.*</st
 rong></p>\n<p><strong>Free. Reservations required. </strong></p>\n<p>Expl
 ore the galleries by stopping at different artworks for a hands-on learni
 ng activity and a related story. Young families are invited to meet museu
 m staff on the yellow couches in the Schmidlapp Gallery (Gallery 151). St
 aff will then lead families to see three or four art objects related to a
  particular theme. Each stop includes an interactive experience that can 
 be enjoyed by families along with a storytime by a Cincinnati and Hamilto
 n County Public Librarian.</p>\n<p>This month's theme will be Sharing is 
 Caring\, inspired by <a href="/art/exhibitions/exhibition-archive/2023/ch
 arles-white-a-little-higher/" title="Charles White: A Little Higher"><em>
 Charles White: A Little Higher</em>.</a></p>\n<p>Image credit: Charles Wh
 ite (American\, 1918–1979)\,<em>Awaiting His Return</em>\, 1946\, lithogr
 aph\, 15 ¾ x 12 ¼ in. (40 x 31cm)\, Primas Family Collection\, © The Char
 les White Archive</p>\n<hr />\n<p><em>If you need accessibility accommoda
 tions for this program or event\, please email </em><em><a href="mailto:a
 ccess@cincyart.org">access@cincyart.org.</a><a href="mailto:access@cincya
 rt.org"></a></em></p>\n<p> </p>
END:VEVENT
END:VCALENDAR
