BEGIN:VCALENDAR
METHOD:PUBLISH
PRODID:-//github.com/rianjs/ical.net//NONSGML ical.net 4.0//EN
VERSION:2.0
BEGIN:VEVENT
DTSTAMP:20260420T213140Z
DTSTART:20240113T130000
LOCATION:Cincinnati Art Museum
SEQUENCE:0
SUMMARY:SOLD OUT Choose Your Own Gallery Adventure: Travel Through Time
UID:00000000-0000-0000-0000-000000000000
X-ALT-DESC;FMTTYPE=text/html:<p><strong>*This date is sold out. Join us fo
 r our next Choose Your Own Gallery Adventure on Sat. February 10\, 2024.*
 </strong></p>\n<p><strong>Free. Reservations required.</strong></p>\n<p><
 strong>Tickets are available one month in advance.</strong></p>\n<p>This 
 month we will work together to voyage through time and space. The group w
 ill decide what world civilizations and time periods they will encounter 
 as we travel through the museum. Based on the <em>Choose Your Own Adventu
 re </em>book series\, this gallery walk centers on a storyline determined
  by the choices of participants. Each adventure begins at the Schmidlapp 
 Gallery (Gallery 151) where a museum educator greets the group and sets t
 he scene for the story. Participants decide where the story goes and whic
 h artworks they see.</p>\n<p>This month's theme is inspired by the exhibi
 tion <a href="/art/exhibitions/exhibition-archive/2023/charles-white-a-li
 ttle-higher/" title="Charles White: A Little Higher"><em>Charles White: A
  Little Higher</em>.</a></p>\n<hr />\n<p><em>If you need accessibility ac
 commodations for this program or event\, please email </em><a href="mailt
 o:access@cincyart.org"><em>access@cincyart.org</em></a><em><u>.</u></em><
 /p>
END:VEVENT
END:VCALENDAR
