BEGIN:VCALENDAR
METHOD:PUBLISH
PRODID:-//github.com/rianjs/ical.net//NONSGML ical.net 4.0//EN
VERSION:2.0
BEGIN:VEVENT
DTSTAMP:20260422T121356Z
DTSTART:20230728T170000
LOCATION:Cincinnati Art Museum
SEQUENCE:0
SUMMARY:Art After Dark | ¡Viva España!
UID:00000000-0000-0000-0000-000000000000
X-ALT-DESC;FMTTYPE=text/html:<p><strong>Free. Reservations not required. <
 /strong></p>\n<p>¡Olé\, olé\, olé! Immerse yourself in Spanish culture an
 d experience our <em><a href="https://www.cincinnatiartmuseum.org/art/exh
 ibitions/picasso-landscapes-out-of-bounds/">Picasso Landscapes: Out of Bo
 unds</a></em> exhibition for free! Enjoy music from DJ Tony Pabón and Spa
 nish guitarist Gareth Jones plus flamenco dancing\, cash bars\, and food 
 for purchase. Reserve your free timed ticket to the exhibition at the doo
 r. #ArtAfterDarkCincy</p>\n<p>Parking is limited. Please arrive early or 
 consider using a rideshare service. If museum parking lots are full\, con
 sider offsite parking in Eden Park and throughout Mount Adams.</p>\n<hr /
 >\n<p><em>If you need accessibility accommodations for this event\, pleas
 e email <a href="mailto:access@cincyart.org">access@cincyart.org</a>. Ple
 ase contact us in advance to ensure accommodations can be made.</em></p>
END:VEVENT
END:VCALENDAR
