BEGIN:VCALENDAR
METHOD:PUBLISH
PRODID:-//github.com/rianjs/ical.net//NONSGML ical.net 4.0//EN
VERSION:2.0
BEGIN:VEVENT
DTSTAMP:20260425T020229Z
DTSTART:20210601T100000
LOCATION:Cincinnati Art Museum
SEQUENCE:0
SUMMARY:Juneteenth Festival Flag Raising at the Art Climb
UID:00000000-0000-0000-0000-000000000000
X-ALT-DESC;FMTTYPE=text/html:<p>Cincinnati’s 34<sup>th</sup> Annual <a hre
 f="http://juneteenthcincinnati.org/">Juneteenth Festival</a>\, which mark
 s the elimination of American slavery\, will begin with a flag raising ev
 ent near the Art Climb. Visitors should gather at the corner of Gilbert A
 venue and Eden Park Drive. The flag will be raised by Buffalo Soldier Reg
 inald B. Murray at the Cincinnati Parks Administration Office at 950 Eden
  Park Drive\, which will be visible from Art Climb. The event will includ
 e Bishop Todd O’Neal\, Dr. Catherine Roma\, and the Unity Celebration Cho
 ir.</p>\n<p>Free. No registration required.</p>
END:VEVENT
END:VCALENDAR
