BEGIN:VCALENDAR
METHOD:PUBLISH
PRODID:-//github.com/rianjs/ical.net//NONSGML ical.net 4.0//EN
VERSION:2.0
BEGIN:VEVENT
DTSTAMP:20260422T211430Z
DTSTART:20240627T170000
LOCATION:Cincinnati Art Museum
SEQUENCE:0
SUMMARY:Members Opening — The Culture: Hip Hop and Contemporary Art in the
  21st Century
UID:00000000-0000-0000-0000-000000000000
X-ALT-DESC;FMTTYPE=text/html:<p><strong>Free. Reservations not required.</
 strong><br /><strong>Members only.</strong></p>\n<p><strong>Not a member?
  <a href="/membership">Join today!</a></strong></p>\n<p><a href="/art/exh
 ibitions/upcoming-exhibitions/the-culture-hip-hop-and-contemporary-art-in
 -the-21st-century/" data-anchor="#"><em>The Culture: Hip Hop and Contempo
 rary Art in the 21st Century</em></a> showcases more than 90 works of art
  by some of today’s most important and celebrated artists —such as Robert
 o Lugo\, Carrie Mae Weems\, William Cordova\, Hassan Hajjaj\, Hank Willis
  Thomas—and fashion brands\, with looks from Gucci\, Cross Colours and Vi
 vienne Westwood. A range of music ephemera will also be on display.</p>\n
 <p>Members are invited to view <em>The Culture: Hip Hop and Contemporary 
 Art in the 21st Century</em> before the exhibition opens to the public. E
 njoy snacks and a cash bar in our Great Hall. When you arrive\, please ch
 eck-in at the Visitors Services desk. <strong><a href="/art/exhibitions/u
 pcoming-exhibitions/the-culture-hip-hop-and-contemporary-art-in-the-21st-
 century/">Learn more about The Culture: Hip Hop and Contemporary Art in t
 he 21st Century</a>.</strong></p>\n<p><span class="bodSmall">image credit
 : Derrick Adams (American\, b. 1970)\,Heir to the Throne\, 2021\, non-fun
 gible token\, PrivateCollection\, Duration: 11minutes</span></p>\n<hr />\
 n<p><span><em>If you need accessibility accommodations\, please contact u
 s in advance at </em><a rel="noreferrer noopener" href="mailto:access@cin
 cyart.org" target="_blank" title="mailto:access@cincyart.org" class="fui-
 Link ___1rxvrpe f2hkw1w f3rmtva f1ewtqcl fyind8e f1k6fduh f1w7gpdv fk6fou
 c fjoy568 figsok6 f1hu3pq6 f11qmguv f19f4twv f1tyq0we f1g0x7ka fhxju0i f1
 qch9an f1cnd47f fqv5qza f1vmzxwi f1o700av f13mvf36 f1cmlufx f9n3di6 f1ids
 18y f1tx3yz7 f1deo86v f1eh06m1 f1iescvh fhgqx19 f1olyrje f1p93eir f1nev41
 a f1h8hb77 f1lqvz6u f10aw75t fsle3fq f17ae5zn" aria-label="Link access@ci
 ncyart.org"><em>access@cincyart.org</em></a> <em>or fill out </em><a rel=
 "noreferrer noopener" href="https://forms.office.com/Pages/ResponsePage.a
 spx?id=Gm-hEwG4gEOJzKydDKuIkMouQ0Sbq_FHq0MNY45l4U1UMTYxM0ZJRjFENlBYQzlSWD
 lWT0NEVDNBNS4u" target="_blank" title="https://forms.office.com/pages/res
 ponsepage.aspx?id=gm-hewg4geojzkyddkuikmouq0sbq_fhq0mny45l4u1umtyxm0zjrjf
 enlbyqzlswdlwt0nevdnbns4u" class="fui-Link ___1rxvrpe f2hkw1w f3rmtva f1e
 wtqcl fyind8e f1k6fduh f1w7gpdv fk6fouc fjoy568 figsok6 f1hu3pq6 f11qmguv
  f19f4twv f1tyq0we f1g0x7ka fhxju0i f1qch9an f1cnd47f fqv5qza f1vmzxwi f1
 o700av f13mvf36 f1cmlufx f9n3di6 f1ids18y f1tx3yz7 f1deo86v f1eh06m1 f1ie
 scvh fhgqx19 f1olyrje f1p93eir f1nev41a f1h8hb77 f1lqvz6u f10aw75t fsle3f
 q f17ae5zn" aria-label="Link the accessibility request form. "><em>the ac
 cessibility request form.</em><em> </em></a></span></p>\n<p> </p>
END:VEVENT
END:VCALENDAR
