BEGIN:VCALENDAR
METHOD:PUBLISH
PRODID:-//github.com/rianjs/ical.net//NONSGML ical.net 4.0//EN
VERSION:2.0
BEGIN:VEVENT
DTSTAMP:20260419T145445Z
DTSTART:20260305T180000
LOCATION:Cincinnati Art Museum
SEQUENCE:0
SUMMARY:*SOLD OUT* Stand-Up History
UID:00000000-0000-0000-0000-000000000000
X-ALT-DESC;FMTTYPE=text/html:<p><strong>* The Stand-Up History program on 
 March 5\, 2026 has sold out. *</strong></p>\n<p><strong>Tickets required.
  Ticket sales open one month before the event.<br>Members $10\; General p
 ublic $15</strong></p>\n<p>Since 2017\, an unruly gang of feral raconteur
 s and defrocked historians known as the Mixchevious Jongleurs have mounte
 d regular assaults on the canned history foisted upon us by the minions o
 f the myth-making machinery through an entertaining and often hilarious s
 eries called Stand-Up History. On this night they are taking their wit\, 
 jollity and the authentic inside dope on historical curiosities of Cincin
 nati and the universe.</p>\n<p>You'll be sure to have fun learning about 
 Cincinnati and space history.</p>\n<p>A cash bar and light snacks will be
  available.</p>\n<h3>Program Presenters:</h3>\n<ul>\n<li>Greg Hand\, Cinc
 innati's Ancient Historian</li>\n<li>Molly Wellmann\, Mixologist Extraord
 inaire</li>\n<li>Dean Regas\, Rogue Astronomer</li>\n</ul>\n<hr>\n<p><em>
 If you need accessibility accommodations\, please contact us in advance a
 t <a href="mailto:access@cincyart.org">access@cincyart.org</a> or fill ou
 t <a href="https://forms.office.com/Pages/ResponsePage.aspx?id=Gm-hEwG4gE
 OJzKydDKuIkMouQ0Sbq_FHq0MNY45l4U1UMTYxM0ZJRjFENlBYQzlSWDlWT0NEVDNBNS4u"><
 span>the accessibility request form.</span></a></em></p>\n<hr>
END:VEVENT
END:VCALENDAR
