BEGIN:VCALENDAR
METHOD:PUBLISH
PRODID:-//github.com/rianjs/ical.net//NONSGML ical.net 4.0//EN
VERSION:2.0
BEGIN:VEVENT
DTSTAMP:20260419T145425Z
DTSTART:20260308T130000
LOCATION:Cincinnati Art Museum
SEQUENCE:0
SUMMARY:RECreate
UID:00000000-0000-0000-0000-000000000000
X-ALT-DESC;FMTTYPE=text/html:<div>\n<p><strong>Free. Registration not requ
 ired.</strong></p>\n</div>\n<div>\n<p>Stop by the<span>&nbsp\;</span><a r
 el="noopener noreferrer" href="https://www.cincinnatiartmuseum.org/events
 -programs/families-teens/rosenthal-education-center-rec/" target="_blank"
  title="https://www.cincinnatiartmuseum.org/events-programs/families-teen
 s/rosenthal-education-center-rec/" data-auth="NotApplicable" data-linkind
 ex="0"><span data-ogsc="rgb(225\, 37\, 20)">Rosenthal Education Center</s
 pan></a> (REC) between 1 p.m. and 3 p.m. on the second Sunday of the mont
 h to meet a local artist and create an original work of art to take home!
 </p>\n<hr>\n<p><em>If you need&nbsp\;accessibility accommodations\, pleas
 e contact us in advance at&nbsp\;</em><em><a href="mailto:access@cincyart
 .org">access@cincyart.org</a>&nbsp\;<a rel="noreferrer noopener" href="ma
 ilto:access@cincyart.org" title="mailto:access@cincyart.org" data-loopsty
 le="linkonly" data-linkindex="6" data-ogsc="rgb(225\, 37\, 20)"></a>or fi
 ll out&nbsp\;<a id="LPlnk667530" rel="noopener noreferrer" href="https://
 forms.office.com/Pages/ResponsePage.aspx?id=Gm-hEwG4gEOJzKydDKuIkMouQ0Sbq
 _FHq0MNY45l4U1UMTYxM0ZJRjFENlBYQzlSWDlWT0NEVDNBNS4u" target="_blank" titl
 e="https://forms.office.com/Pages/ResponsePage.aspx?id=Gm-hEwG4gEOJzKydDK
 uIkMouQ0Sbq_FHq0MNY45l4U1UMTYxM0ZJRjFENlBYQzlSWDlWT0NEVDNBNS4u" data-auth
 ="NotApplicable" data-linkindex="7">the&nbsp\;accessibility request form.
 </a></em>&nbsp\;</p>\n</div>
END:VEVENT
END:VCALENDAR
