BEGIN:VCALENDAR
METHOD:PUBLISH
PRODID:-//github.com/rianjs/ical.net//NONSGML ical.net 4.0//EN
VERSION:2.0
BEGIN:VEVENT
DTSTAMP:20260420T105811Z
DTSTART:20250309T110000
LOCATION:Cincinnati Art Museum
SEQUENCE:0
SUMMARY:A Very RECtacular Birthday Party!
UID:00000000-0000-0000-0000-000000000000
X-ALT-DESC;FMTTYPE=text/html:<p><strong>Free. Registration not required.</
 strong></p>\n<p>Celebrate the <a href="https://www.cincinnatiartmuseum.or
 g/events-programs/families-teens/rosenthal-education-center-rec/">Rosenth
 al Education Center</a> (REC)'s 10th birthday for a fun-filled day of art
  making\, games\, treats\, special guests\, and more! Create your own spe
 cial birthday crown and paper bag piñata using a variety of artmaking mat
 erials.</p>\n<p>Piñata filler courtesy of <a href="https://www.indigohipp
 o.org/">Indigo Hippo</a>.</p>\n<p><strong>Schedule of events:</strong></p
 >\n<ul>\n<li data-olk-copy-source="MessageBody">11:30 a.m.–12 p.m. Storyt
 ime with Terence Hammonds</li>\n<li>1 p.m.–2 p.m. “Pin the Wing on the Re
 d Rooster” game and Pull String Piñata</li>\n<li>2 p.m.–4 p.m. Dance Part
 y with Nat Jones from WKRQ and Pam Kravetz</li>\n<li>4 p.m. Happy Birthda
 y Song and Mini Cupcakes with Mr. Paint<br /><strong><br />PLUS! Face Pai
 nting with Little Fox Face Painting from 1 p.m.-3p .m.</strong></li>\n</u
 l>\n<hr />\n<p><em>If you need accessibility accommodations\, please cont
 act us in advance at </em><a href="mailto:access@cincyart.org"><em>access
 @cincyart.org</em></a><em> or fill out </em><a href="https://forms.office
 .com/Pages/ResponsePage.aspx?id=Gm-hEwG4gEOJzKydDKuIkMouQ0Sbq_FHq0MNY45l4
 U1UMTYxM0ZJRjFENlBYQzlSWDlWT0NEVDNBNS4u"><em>the accessibility request fo
 rm.</em></a></p>
END:VEVENT
END:VCALENDAR
