BEGIN:VCALENDAR
METHOD:PUBLISH
PRODID:-//github.com/rianjs/ical.net//NONSGML ical.net 4.0//EN
VERSION:2.0
BEGIN:VEVENT
DTSTAMP:20260423T002604Z
DTSTART:20240316T113000
LOCATION:Cincinnati Art Museum
SEQUENCE:0
SUMMARY:See the Story Book Club: There\, There by Tommy Orange
UID:00000000-0000-0000-0000-000000000000
X-ALT-DESC;FMTTYPE=text/html:<p><strong>Free. Reservations not required.</
 strong></p>\n<p>Do you love to read? Love art? Join librarians from the <
 a href="https://chpl.org/">Public Library of Cincinnati and Hamilton Coun
 ty</a>\, along with a museum docent\, for this bi-monthly book club. See 
 the Story combines authors’ works from around the world (both fiction and
  non-fiction) with artwork on view in the museum’s galleries. Participant
 s meet in the library to discuss the book of the month then take a tour o
 f related artworks. Join us and see the story!</p>\n<p>This month's book 
 is <em>There\, There</em> by Tommy Orange\, inspired by <em><a href="/art
 /exhibitions/clearly-indigenous/" title="Clearly Indigenous: Native Visio
 ns Reimagined in Glass">Clearly Indigenous: Native Visions Reimagined in 
 Glass</a></em>.</p>\n<hr />\n<p><em>If you need accessibility accommodati
 ons\, please contact us in advance at <a rel="noreferrer noopener" href="
 mailto:access@cincyart.org" target="_blank" title="mailto:access@cincyart
 .org" class="fui-Link ___1eya986 f3rmtva f1ewtqcl fyind8e f1k6fduh f1w7gp
 dv fk6fouc fjoy568 figsok6 f1hu3pq6 f11qmguv f19f4twv f1tyq0we f1g0x7ka f
 hxju0i f1qch9an f1cnd47f fqv5qza f1vmzxwi f1o700av f13mvf36 f1cmlufx f9n3
 di6 f1ids18y f1tx3yz7 f1deo86v f1eh06m1 f1iescvh fhgqx19 f1olyrje f1p93ei
 r f1nev41a f1h8hb77 f1x7u7e9 f10aw75t fsle3fq f17ae5zn" aria-label="Link 
 access@cincyart.org."><u>access@cincyart.org.</u></a></em></p>
END:VEVENT
END:VCALENDAR
