BEGIN:VCALENDAR
METHOD:PUBLISH
PRODID:-//github.com/rianjs/ical.net//NONSGML ical.net 4.0//EN
VERSION:2.0
BEGIN:VEVENT
DTSTAMP:20260421T094332Z
DTSTART:20251115T130000
LOCATION:Cincinnati Art Museum
SEQUENCE:0
SUMMARY:Create Plus: Collaged Histories with Terence Hammonds
UID:00000000-0000-0000-0000-000000000000
X-ALT-DESC;FMTTYPE=text/html:<p><strong>Registration required. Registratio
 n opens one month in advance.<br></strong><strong>Members &amp\; Students
 : $20 <br></strong><strong>General Public: $30<br></strong></p>\n<div cla
 ss="OutlineElement Ltr SCXW243982747 BCX0">\n<p class="Paragraph SCXW2439
 82747 BCX0">Join Cincinnati-based artist Terence Hammonds for a hands-on 
 workshop for adults inspired by the exhibition <a href="/art/exhibitions/
 upcoming-exhibitions/recall-reframe-respond-the-art-of-paul-scott/"><em>R
 ecall. Reframe. Respond. The Art of Paul Scott</em></a>. Begin with a scr
 een-printed decorative border designed by Hammonds\, drawing from histori
 c commemorative plate motifs. Then\, explore collage\, drawing\, and pain
 ting techniques to build your own layered artwork. Along the way\, partic
 ipants will visit the galleries to gather inspiration from Paul Scott’s p
 ieces. This workshop offers an engaging way to explore how history\, memo
 ry\, and contemporary perspectives can intersect through the language of 
 collage.&nbsp\;&nbsp\;</p>\n</div>\n<div class="OutlineElement Ltr SCXW24
 3982747 BCX0">\n<p class="Paragraph SCXW243982747 BCX0">No art experience
  necessary\; all skill levels are encouraged to attend. While this progra
 m is designed for adults\, teens 13+ accompanied by an adult are welcome.
 &nbsp\;&nbsp\;</p>\n</div>\n<hr>\n<p><span><em>If you need accessibility 
 accommodations\, please contact us in advance at </em><a rel="noreferrer 
 noopener" href="mailto:access@cincyart.org" target="_blank" title="mailto
 :access@cincyart.org" class="fui-Link ___1rxvrpe f2hkw1w f3rmtva f1ewtqcl
  fyind8e f1k6fduh f1w7gpdv fk6fouc fjoy568 figsok6 f1hu3pq6 f11qmguv f19f
 4twv f1tyq0we f1g0x7ka fhxju0i f1qch9an f1cnd47f fqv5qza f1vmzxwi f1o700a
 v f13mvf36 f1cmlufx f9n3di6 f1ids18y f1tx3yz7 f1deo86v f1eh06m1 f1iescvh 
 fhgqx19 f1olyrje f1p93eir f1nev41a f1h8hb77 f1lqvz6u f10aw75t fsle3fq f17
 ae5zn" aria-label="Link access@cincyart.org"><em>access@cincyart.org</em>
 </a> <em>or fill out&nbsp\;</em><a rel="noreferrer noopener" href="https:
 //forms.office.com/Pages/ResponsePage.aspx?id=Gm-hEwG4gEOJzKydDKuIkMouQ0S
 bq_FHq0MNY45l4U1UMTYxM0ZJRjFENlBYQzlSWDlWT0NEVDNBNS4u" target="_blank" ti
 tle="https://forms.office.com/pages/responsepage.aspx?id=gm-hewg4geojzkyd
 dkuikmouq0sbq_fhq0mny45l4u1umtyxm0zjrjfenlbyqzlswdlwt0nevdnbns4u" class="
 fui-Link ___1rxvrpe f2hkw1w f3rmtva f1ewtqcl fyind8e f1k6fduh f1w7gpdv fk
 6fouc fjoy568 figsok6 f1hu3pq6 f11qmguv f19f4twv f1tyq0we f1g0x7ka fhxju0
 i f1qch9an f1cnd47f fqv5qza f1vmzxwi f1o700av f13mvf36 f1cmlufx f9n3di6 f
 1ids18y f1tx3yz7 f1deo86v f1eh06m1 f1iescvh fhgqx19 f1olyrje f1p93eir f1n
 ev41a f1h8hb77 f1lqvz6u f10aw75t fsle3fq f17ae5zn" aria-label="Link the a
 ccessibility request form.&nbsp\;"><em>the accessibility request form.</e
 m></a></span></p>
END:VEVENT
END:VCALENDAR
