BEGIN:VCALENDAR
METHOD:PUBLISH
PRODID:-//github.com/rianjs/ical.net//NONSGML ical.net 4.0//EN
VERSION:2.0
BEGIN:VEVENT
DTSTAMP:20260425T132217Z
DTSTART:20231118T110000
LOCATION:Cincinnati Art Museum
SEQUENCE:0
SUMMARY:Holiday Market
UID:00000000-0000-0000-0000-000000000000
X-ALT-DESC;FMTTYPE=text/html:<p>Join us as we continue the tradition of ou
 r seasonal gift market in the museum’s main lobby on the first floor. We 
 bring together local artists and artisans in one convenient shopping expe
 rience.</p>\n<p>In addition\, our <a href="/visit/shop-dine/museum-shop/"
 >Gift Shop</a> is stocked with unique art-inspired gifts for everyone on 
 your list. Shoppers will enjoy 10% off shop purchases\, and <a href="http
 s://www.cincinnatiartmuseum.org/give-join/membership/">members</a> receiv
 e 20% off! Complimentary gift wrap is included. Some exclusions apply.</p
 >\n<p><strong>Meet our vendors!</strong> </p>\n<ul>\n<li>Cassie Speicher/
 Native Works</li>\n<li>Ashley Hurley/Shattered Light Studios</li>\n<li>Er
 ika McCoy/Bloom and Brush Studio</li>\n<li>Jennifer Miller/Studio JLM</li
 >\n<li>Patricia Miller</li>\n<li>Emma Lindner/Carriage House Jewelry</li>
 \n<li>Angel Mcillwain/Painted Tree Studio</li>\n<li>Craig Britton Art</li
 >\n<li>Kate Demske</li>\n<li>Anne Buening</li>\n<li>Pothead Pottery</li>\
 n<li>Pingping Cui/Simply Black and White</li>\n<li>Katie Hendricks</li>\n
 <li>Karen Boyhain</li>\n<li>Cynthia Kukla/Wordly Watercolors</li>\n<li>Na
 ncy Turner/Real Butter Studio</li>\n<li>Wyn Jones</li>\n<li>Kathryn Garde
 tte/Notions Designed</li>\n<li>Jeni Engel Conley Jewelry</li>\n<li>Sheila
  Fleischer Art</li>\n<li>Bob Blum</li>\n<li>Julz Jewelry</li>\n</ul>\n<p>
 Vendor list subject to change.</p>\n<p>Image provided by StudioJLM</p>\n<
 hr />\n<p><em>If you need accessibility accommodations\, please contact u
 s in advance at<span> <a rel="noreferrer noopener" href="mailto:access@ci
 ncyart.org" target="_blank" title="mailto:access@cincyart.org" class="fui
 -Link ___1eya986 f3rmtva f1ewtqcl fyind8e f1k6fduh f1w7gpdv fk6fouc fjoy5
 68 figsok6 f1hu3pq6 f11qmguv f19f4twv f1tyq0we f1g0x7ka fhxju0i f1qch9an 
 f1cnd47f fqv5qza f1vmzxwi f1o700av f13mvf36 f1cmlufx f9n3di6 f1ids18y f1t
 x3yz7 f1deo86v f1eh06m1 f1iescvh fhgqx19 f1olyrje f1p93eir f1nev41a f1h8h
 b77 f1x7u7e9 f10aw75t fsle3fq f17ae5zn" aria-label="Link access@cincyart.
 org."><u>access@cincyart.org.</u></a></span></em></p>
END:VEVENT
END:VCALENDAR
