BEGIN:VCALENDAR
METHOD:PUBLISH
PRODID:-//github.com/rianjs/ical.net//NONSGML ical.net 4.0//EN
VERSION:2.0
BEGIN:VEVENT
DTSTAMP:20260423T180941Z
DTSTART:20241005T110000
LOCATION:Cincinnati Art Museum
SEQUENCE:0
SUMMARY:CAM Kids Day: Landscapes in the Lens
UID:00000000-0000-0000-0000-000000000000
X-ALT-DESC;FMTTYPE=text/html:<p><strong>Free. Drop-in and pre-registered p
 rograms available.</strong></p>\n<p>Join us for an exciting interactive f
 amily day at the<span> </span>art<span> </span>museum\, where we will exp
 lore<span> </span>the beautiful world of landscape photography! Bring the
  whole family for a day filled with creativity and inspiration<span> </sp
 an>and<span> </span>delve into the art of capturing stunning outdoor scen
 es. We have<span> </span>drop-in experiences as well as registered activi
 ties<span> </span>to make your day fun! <span class="ui-provider a b c d 
 e f g h i j k l m n o p q r s t u v w x y z ab ac ae af ag ah ai aj ak">P
 lus\, see the exhibition <em><a href="/art/exhibitions/exhibition-archive
 /2024/discovering-ansel-adams/" title="Discovering Ansel Adams">Discoveri
 ng Ansel Adams</a></em> for free!</span></p>\n<p>This month's theme is <e
 m>Landscapes in the Lens</em>.</p>\n<h3>Drop-in Activities include:</h3>\
 n<p><strong>Registration is not required.</strong></p>\n<ul>\n<li>11 a.m.
 –3 p.m. Create an Alternative Landscape in the REC </li>\n<li>11 a.m.–3 p
 .m. Age Specific Scavenger Hunts </li>\n<li>11 a.m.–1 p.m. Landscape art 
 making in the galleries for preschoolers </li>\n<li>11 a.m.–1 p.m. Multis
 ensory activity in the galleries for preschoolers  </li>\n<li>11 a.m.–11:
 30 a.m. Session 1: May Festivals Minis Fall Fun Singing Program </li>\n<l
 i>11:30 a.m.–noon<span> </span>Session 2: May Festival Minis Fall Fun Sin
 ging Program </li>\n<li>Noon–1 p.m. Family Friendly Brownbag lunch perfor
 mance with the Seven Hills String Duo </li>\n<li>Noon–12:30 p.m. Session 
 3: May Festival Minis Fall Fun Singing Program </li>\n<li>12:30–1 p.m. Se
 ssion 4: May Festival Minis Fall Fun Singing Program </li>\n<li>Noon–1 p.
 m. Drop in Storytime with the Cincinnati Hamilton County Public Library <
 /li>\n<li>1–<span data-ogsc="black" data-ogsb="white">3 ​p.m. Improv Acti
 vities with the Ensemble Theatre Cincinnati</span></li>\n<li>1–3 p.m. Lan
 dscape art making in the galleries for ages 6-12 </li>\n<li>1–3 p.m. Mult
 isensory activity in the galleries for ages 6-12 </li>\n</ul>\n<p> </p>\n
 <h3>Registered Activities include:</h3>\n<p><strong>Registration is requi
 red to participate. Click an event below to register.</strong></p>\n<ul>\
 n<li>10–10:40 a.m. <a href="https://3066p.blackbaudhosting.com/3066p/page
 .aspx?pid=196&amp\;tab=2&amp\;txobjid=1d964667-0f09-4dfd-815e-f6294bea36b
 b" data-anchor="?pid=196&amp\;tab=2&amp\;txobjid=1d964667-0f09-4dfd-815e-
 f6294bea36bb">Members-Only Baby Tours for ages 0-2</a></li>\n<li>10–11 a.
 m. <a href="https://3066p.blackbaudhosting.com/3066p/Art-Together-Art-Mak
 ing-for-Families-with-Children-Ages-35-05Oct2024">Art Together for presch
 oolers </a></li>\n<li>11 a.m.–noon<span> </span><a href="https://3066p.bl
 ackbaudhosting.com/3066p/page.aspx?pid=196&amp\;tab=2&amp\;txobjid=eb5e73
 de-44e6-416a-a329-7cb6996442c7" data-anchor="?pid=196&amp\;tab=2&amp\;txo
 bjid=eb5e73de-44e6-416a-a329-7cb6996442c7">Family Storytime and Gallery W
 alk for preschoolers</a> </li>\n<li>2–3 p.m. <a href="https://3066p.black
 baudhosting.com/3066p/page.aspx?pid=196&amp\;tab=2&amp\;txobjid=bdfc953d-
 881f-4749-ae1b-65da053a8184" data-anchor="?pid=196&amp\;tab=2&amp\;txobji
 d=bdfc953d-881f-4749-ae1b-65da053a8184">Family Studio for ages 6-12</a></
 li>\n</ul>\n<p> </p>\n<hr />\n<p><em>If you need accessibility accommodat
 ions\, please contact us in advance at </em><a rel="noreferrer noopener" 
 href="mailto:access@cincyart.org" target="_blank" title="mailto:access@ci
 ncyart.org" class="fui-Link ___1rxvrpe f2hkw1w f3rmtva f1ewtqcl fyind8e f
 1k6fduh f1w7gpdv fk6fouc fjoy568 figsok6 f1hu3pq6 f11qmguv f19f4twv f1tyq
 0we f1g0x7ka fhxju0i f1qch9an f1cnd47f fqv5qza f1vmzxwi f1o700av f13mvf36
  f1cmlufx f9n3di6 f1ids18y f1tx3yz7 f1deo86v f1eh06m1 f1iescvh fhgqx19 f1
 olyrje f1p93eir f1nev41a f1h8hb77 f1lqvz6u f10aw75t fsle3fq f17ae5zn" ari
 a-label="Link access@cincyart.org"><em>access@cincyart.org</em></a> <em>o
 r fill out </em><a rel="noreferrer noopener" href="https://forms.office.c
 om/Pages/ResponsePage.aspx?id=Gm-hEwG4gEOJzKydDKuIkMouQ0Sbq_FHq0MNY45l4U1
 UMTYxM0ZJRjFENlBYQzlSWDlWT0NEVDNBNS4u" target="_blank" title="https://for
 ms.office.com/pages/responsepage.aspx?id=gm-hewg4geojzkyddkuikmouq0sbq_fh
 q0mny45l4u1umtyxm0zjrjfenlbyqzlswdlwt0nevdnbns4u" class="fui-Link ___1rxv
 rpe f2hkw1w f3rmtva f1ewtqcl fyind8e f1k6fduh f1w7gpdv fk6fouc fjoy568 fi
 gsok6 f1hu3pq6 f11qmguv f19f4twv f1tyq0we f1g0x7ka fhxju0i f1qch9an f1cnd
 47f fqv5qza f1vmzxwi f1o700av f13mvf36 f1cmlufx f9n3di6 f1ids18y f1tx3yz7
  f1deo86v f1eh06m1 f1iescvh fhgqx19 f1olyrje f1p93eir f1nev41a f1h8hb77 f
 1lqvz6u f10aw75t fsle3fq f17ae5zn" aria-label="Link the accessibility req
 uest form. "><em>the accessibility request form.</em></a></p>\n<p> </p>
END:VEVENT
END:VCALENDAR
