BEGIN:VCALENDAR
METHOD:PUBLISH
PRODID:-//github.com/rianjs/ical.net//NONSGML ical.net 4.0//EN
VERSION:2.0
BEGIN:VEVENT
DTSTAMP:20260420T213140Z
DTSTART:20230906T130000
LOCATION:Cincinnati Art Museum
SEQUENCE:0
SUMMARY:Public Tour: Highlights of the Collection
UID:00000000-0000-0000-0000-000000000000
X-ALT-DESC;FMTTYPE=text/html:<div class="bod">\n<div class="bod">\n<p>Tour
 s offer the highlights of the Cincinnati Art Museum's world-class collect
 ion.</p>\n<p><em>Public tours are always FREE and meet in the front lobby
 .</em></p>\n<p><em>Homeschool and school groups as well as groups of 10 o
 r more people are not permitted on public tours. Please reach out to the 
 Tour Coordinator and submit a tour request form on our Tours Home page—th
 is ensures the best possible tour for your group.</em></p>\n<hr />\n<p><e
 m>If you need accessibility accommodations\, please contact us in advance
  at </em><em><a href="mailto:access@cincyart.org">access@cincyart.org</a>
  <a rel="noreferrer noopener" href="mailto:access@cincyart.org" title="ma
 ilto:access@cincyart.org" data-loopstyle="linkonly" data-linkindex="6" da
 ta-ogsc="rgb(225\, 37\, 20)"></a>or fill out <a id="LPlnk667530" rel="noo
 pener noreferrer" href="https://forms.office.com/Pages/ResponsePage.aspx?
 id=Gm-hEwG4gEOJzKydDKuIkMouQ0Sbq_FHq0MNY45l4U1UMTYxM0ZJRjFENlBYQzlSWDlWT0
 NEVDNBNS4u" target="_blank" title="https://forms.office.com/Pages/Respons
 ePage.aspx?id=Gm-hEwG4gEOJzKydDKuIkMouQ0Sbq_FHq0MNY45l4U1UMTYxM0ZJRjFENlB
 YQzlSWDlWT0NEVDNBNS4u" data-auth="NotApplicable" data-linkindex="7" data-
 ogsc="">the accessibility request form.</a></em></p>\n</div>\n</div>
END:VEVENT
END:VCALENDAR
