BEGIN:VCALENDAR
METHOD:PUBLISH
PRODID:-//github.com/rianjs/ical.net//NONSGML ical.net 4.0//EN
VERSION:2.0
BEGIN:VEVENT
DTSTAMP:20260420T194448Z
DTSTART:20230908T190000
LOCATION:Cincinnati Art Museum
SEQUENCE:0
SUMMARY:The Donald P. Sowell Endowment Committee 30th Anniversary Celebrat
 ion
UID:00000000-0000-0000-0000-000000000000
X-ALT-DESC;FMTTYPE=text/html:<p><strong>Reservations required. RSVP by Sep
 tember 1.<br /></strong><strong>Members: $25 per person<br /></strong><st
 rong>General public: $30 per person</strong></p>\n<p>Join the Sowell Endo
 wment Committee to celebrate their commitment to fostering connections be
 tween the African American community and the museum. Enjoy drinks\, food\
 , and a lively reception\, while the Synergy Jazz Group fills the Great H
 all with their soulful sounds.</p>\n<hr />\n<p><em>If you need accessibil
 ity accommodations for this program or event\, please email </em><a href=
 "mailto:access@cincyart.org"><em>access@cincyart.org</em></a><em><u>.</u>
 </em><em> Please contact us in advance to ensure accommodations can be ma
 de.</em></p>
END:VEVENT
END:VCALENDAR
