BEGIN:VCALENDAR
METHOD:PUBLISH
PRODID:-//github.com/rianjs/ical.net//NONSGML ical.net 4.0//EN
VERSION:2.0
BEGIN:VEVENT
DTSTAMP:20260420T194448Z
DTSTART:20230915T110000
LOCATION:Cincinnati Art Museum
SEQUENCE:0
SUMMARY:Baby Tours: High Contrast–11 a.m.
UID:00000000-0000-0000-0000-000000000000
X-ALT-DESC;FMTTYPE=text/html:<p><strong>Free. </strong><strong>Reservation
 s required.<br /></strong><strong>Tickets available September 1\, 2023.</
 strong></p>\n<p>This 40-minute experience will introduce you and your inf
 ant (ages 0–2) to the world of art with a tour designed to stimulate thei
 r developing minds. We will explain the positive effects of visual stimul
 ation with masterpieces that will mesmerize the museum’s youngest visitor
 s. Visitors will meet in the Schmidlapp Gallery (Gallery 151)\, be led on
  a guided tour\, then will do a baby-safe artmaking activity in the <a hr
 ef="https://www.cincinnatiartmuseum.org/events-programs/families-teens/ro
 senthal-education-center/">Rosenthal Education Center</a> (REC). Stroller
 s are not permitted so that you and your child can better experience the 
 art together.</p>\n<hr />\n<p><em>If you need accessibility accommodation
 s for this program or event\, please email </em><a href="mailto:access@ci
 ncyart.org"><em>access@cincyart.org</em></a><em><u>.</u></em><em> Please 
 contact us in advance to ensure accommodations can be made.</em></p>
END:VEVENT
END:VCALENDAR
