BEGIN:VCALENDAR
METHOD:PUBLISH
PRODID:-//github.com/rianjs/ical.net//NONSGML ical.net 4.0//EN
VERSION:2.0
BEGIN:VEVENT
DTSTAMP:20260423T002605Z
DTSTART:20231214T170000
LOCATION:Cincinnati Art Museum
SEQUENCE:0
SUMMARY:Members Opening—Clearly Indigenous: Native Visions Reimagined in G
 lass
UID:00000000-0000-0000-0000-000000000000
X-ALT-DESC;FMTTYPE=text/html:<p data-ogsb="white"><strong><a href="/visit/
 free-digital-guide-map-and-more/" title="Gallery Map &amp\; Guides">Great
  Hall and Fountain Room</a><br>Free for members</strong></p>\n<p>Museum m
 embers are invited to view the exhibition <a href="/art/exhibitions/exhib
 ition-archive/2023/clearly-indigenous/" title="Clearly Indigenous"><em>Cl
 early Indigenous: Native Visions Reimagined in Glass</em></a> before it o
 pens to the public and enjoy lite bites and a cash bar in the Fountain Ro
 om (Gallery 126). Not a member? <a href="/give-join/membership/">Join tod
 ay</a>. </p>\n<p> </p>\n<h3>About the exhibition:</h3>\n<p><em>Clearly In
 digenous: Native Visions Reimagined in Glass</em> celebrates a broad rang
 e of contemporary Native American and Indigenous Pacific-Rim artists work
 ing in glass. Featuring 120 pieces by 33 artists\, the groundbreaking exh
 ibition showcases works that reinterpret Traditional Stories and iconogra
 phy\, express contemporary issues affecting Indigenous Nations today\, an
 d meld Indigenous Traditions and Knowledge with the aesthetics and proper
 ties unique to the medium of glass.</p>\n<hr>\n<p><em>If you need accessi
 bility accommodations\, please contact us in advance at <a href="mailto:a
 ccess@cincyart.org?subject=September%209%20Create%20Plus%20Accessibility%
 20Accomodations" data-ogsc="" data-linkindex="0">access@cincyart.org.</a>
 </em></p>
END:VEVENT
END:VCALENDAR
